BEGIN:VCALENDAR
VERSION:2.0
PRODID:-//Comune di Montelupo Fiorentino - ECPv6.6.4.2//NONSGML v1.0//EN
CALSCALE:GREGORIAN
METHOD:PUBLISH
X-WR-CALNAME:Comune di Montelupo Fiorentino
X-ORIGINAL-URL:https://www.comune.montelupo-fiorentino.fi.it
X-WR-CALDESC:Eventi per Comune di Montelupo Fiorentino
REFRESH-INTERVAL;VALUE=DURATION:PT1H
X-Robots-Tag:noindex
X-PUBLISHED-TTL:PT1H
BEGIN:VTIMEZONE
TZID:Europe/Rome
BEGIN:DAYLIGHT
TZOFFSETFROM:+0100
TZOFFSETTO:+0200
TZNAME:CEST
DTSTART:20250330T010000
END:DAYLIGHT
BEGIN:STANDARD
TZOFFSETFROM:+0200
TZOFFSETTO:+0100
TZNAME:CET
DTSTART:20251026T010000
END:STANDARD
END:VTIMEZONE
BEGIN:VEVENT
DTSTART;TZID=Europe/Rome:20250425T070000
DTEND;TZID=Europe/Rome:20250425T130000
DTSTAMP:20260422T163510
CREATED:20250415T101058Z
LAST-MODIFIED:20250417T103611Z
UID:16149-1745564400-1745586000@www.comune.montelupo-fiorentino.fi.it
SUMMARY:Festa della Liberazione\, 80° anniversario dalla fine del nazifascismo: il programma a Montelupo Fiorentino
DESCRIPTION:Il Comune di Montelupo Fiorentino ha organizzato un programma apposito in occasione della Festa della Liberazione del 25 aprile\, che quest’anno segna l’80° anniversario dalla fine del nazifascismo. La giornata sarà dedicata al ricordo\, alla memoria e alla musica\, in collaborazione con ANPI Montelupo Fiorentino\, Auser e ARCI. \nLe celebrazioni inizieranno alle ore 9.00 presso il Cimitero dell’Ambrogiana\, con un omaggio alla tomba di Guido Guidi\, volontario della libertà caduto in combattimento a Castel San Pietro Terme (BO). \nAlle ore 9.45\, presso il Circolo ARCI “Moreno Gracci” a Turbone\, si terrà l’evento “Il primo germoglio di libertà”\, un momento celebrativo davanti alla storica sede del Comitato di liberazione nazionale clandestino e della prima giunta comunale provvisoria. \nAlle ore 11.00\, in Piazza Salvo d’Acquisto\, sarà deposta una corona d’alloro in memoria di Guido Guidi\, presso la targa a lui dedicata. \nLe celebrazioni proseguiranno nel pomeriggio al Circolo ARCI “Il Progresso” (Via Virgilio Rovai 41)\, con il tradizionale pranzo partigiano alle ore 13.00 (prenotazioni al 3331213268 o 3804524969). \nA chiudere la giornata\, alle ore 15.00\, un concerto dal titolo “Due voci nel vento”\, con Ilaria Savini ed Elena Ulivieri\, che interpreteranno canti di Resistenza\, pacifismo e amore. \nUn’occasione per tutta la cittadinanza di riflettere sui valori della libertà e della democrazia\, attraverso momenti di commemorazione\, storia e musica.
URL:https://www.comune.montelupo-fiorentino.fi.it/evento/festa-della-liberazione-80-anniversario-dalla-fine-del-nazifascismo-il-programma-a-montelupo-fiorentino/
CATEGORIES:In Evidenza
ATTACH;FMTTYPE=image/png:https://www.comune.montelupo-fiorentino.fi.it/wp-content/uploads/2025/04/25-Aprile-Festa-della-Liberazione-Post-Instagram-Semplice-Papaveri-Rossi-Copertina-di-Facebook.png
END:VEVENT
BEGIN:VEVENT
DTSTART;TZID=Europe/Rome:20250502T190000
DTEND;TZID=Europe/Rome:20250502T210000
DTSTAMP:20260422T163510
CREATED:20250417T094916Z
LAST-MODIFIED:20250417T103614Z
UID:16196-1746212400-1746219600@www.comune.montelupo-fiorentino.fi.it
SUMMARY:"E quindi uscimmo a riveder le stelle": l'osservatorio astronomico Beppe Forti apre al pubblico tutti i venerdì di maggio
DESCRIPTION:Ti stupisci ogni volta che alzi gli occhi verso il cielo? Ti affascina il mondo dell’astronomia? Se hai risposto affermativo\, è l’ l’occasione giusta per te! \n\n\n \n\n\nL’osservatorio astronomico sarà accessibile al pubblico tutti i venerdì di maggio a partire dalle ore 21:00.\n\n\nQuando potrà essere possibile visitarlo?  \n\n\nVenerdì 2 maggio \n\n\nVenerdì 9 maggio \n\n\nVenerdì 16 maggio \n\n\nVenerdì 23 maggio \n\n\nVenerdì 30 maggio \n\n\n\nOrganizzato dall’associazione Gruppo Astrofili Montelupo.
URL:https://www.comune.montelupo-fiorentino.fi.it/evento/e-quindi-uscimmo-a-riveder-le-stelle-losservatorio-astronomico-beppe-forti-apre-al-pubblico-tutti-i-venerdi-di-maggio/
LOCATION:Osservatorio Astronomico Beppe Forti\, Via San Vito - 50056 Montelupo Fiorentino\, Montelupo Fiorentino\, Italy
CATEGORIES:In Evidenza
ATTACH;FMTTYPE=image/png:https://www.comune.montelupo-fiorentino.fi.it/wp-content/uploads/2025/04/Osservatorio-astronomico-Beppe-Forti-1.png
END:VEVENT
BEGIN:VEVENT
DTSTART;TZID=Europe/Rome:20250508T153000
DTEND;TZID=Europe/Rome:20250508T163000
DTSTAMP:20260422T163510
CREATED:20250422T115237Z
LAST-MODIFIED:20250422T115237Z
UID:16239-1746718200-1746721800@www.comune.montelupo-fiorentino.fi.it
SUMMARY:Presentazione della Thek@ Caverni\, archivio digitale dedicato a Raffaello Caverni: divulgatore montelupino dell’Ottocento
DESCRIPTION:Giovedì 8 maggio alle ore 17:30Presso MMAB – Montelupo Fiorentino\, Piazza Vittorio Veneto 11\, Montelupo Fiorentino (FI) \nPresentazione della Thek@ Caverni\, con Sara Bonechi\, curatrice del progetto per il Museo Galileo.Interverrà Lorenzo Nesi\, assessore alla memoria del Comune di Montelupo Fiorentino. \nLa Thek@ Caverni è un archivio digitale dedicato a Raffaello Caverni (1837–1900): studioso\, parroco\, storico della scienza e divulgatore montelupino dell’Ottocento.Grazie alla collaborazione con i suoi discendenti e al lavoro del Museo Galileo\, l’archivio personale di Caverni – finora inaccessibile e non ordinato – è stato catalogato\, digitalizzato e reso consultabile online. \nLettere\, manoscritti\, testi rari\, immagini\, documenti e altro ancora sono oggi disponibili su una piattaforma digitale che valorizza la sua eredità culturale. \n🔍 Esplora la Thek@ Caverni: https://teche.museogalileo.it/caverni/index.php/it \nUn’occasione preziosa per approfondire la storia della scienza attraverso la vita di un uomo straordinario.
URL:https://www.comune.montelupo-fiorentino.fi.it/evento/presentazione-della-thek-caverni-archivio-digitale-dedicato-a-raffaello-caverni-divulgatore-montelupino-dellottocento/
LOCATION:Mmab
CATEGORIES:In Evidenza
ATTACH;FMTTYPE=image/jpeg:https://www.comune.montelupo-fiorentino.fi.it/wp-content/uploads/2025/04/WhatsApp-Image-2025-04-15-at-11.08.27.jpeg
END:VEVENT
BEGIN:VEVENT
DTSTART;TZID=Europe/Rome:20250510T150000
DTEND;TZID=Europe/Rome:20250510T160000
DTSTAMP:20260422T163510
CREATED:20250422T112908Z
LAST-MODIFIED:20250424T065607Z
UID:16233-1746889200-1746892800@www.comune.montelupo-fiorentino.fi.it
SUMMARY:Speaker's Corner - Presentazione del libro "Piccola Umanità" di Gianmarco Lotti
DESCRIPTION:SPEAKER’S CORNERSabato 10 maggio\, ore 17:00Presso MMAB – Montelupo Museo Archivio Biblioteca\, Piazza Vittorio Veneto 10-11\, Montelupo Fiorentino \nPresentazione del libro “Piccola Umanità“ di Gianmarco Lotti.Simone Innocenti\, giornalista\, dialogherà con l’autore. \nIngresso libero.
URL:https://www.comune.montelupo-fiorentino.fi.it/evento/speakers-corner-presentazione-del-libro-piccola-umanita-di-gianmarco-lotti/
LOCATION:Mmab
CATEGORIES:In Evidenza
ATTACH;FMTTYPE=image/png:https://www.comune.montelupo-fiorentino.fi.it/wp-content/uploads/2025/04/10-maggio_Speakers-Corner.png
END:VEVENT
BEGIN:VEVENT
DTSTART;TZID=Europe/Rome:20250516T160000
DTEND;TZID=Europe/Rome:20250516T210000
DTSTAMP:20260422T163510
CREATED:20250422T070016Z
LAST-MODIFIED:20250418T102025Z
UID:16206-1747411200-1747429200@www.comune.montelupo-fiorentino.fi.it
SUMMARY:"Facciamo quadrare i conti!": laboratorio di educazione finanziaria con Azzurra Rinaldi
DESCRIPTION:Un laboratorio di gestione del denaro per costruire un’indipendenza economica e ridurre così il divario di genere che\, anche in questo campo\, è tuttora presente e produce conseguenze disastrose in tutta la società. Subito dopo il laboratorio ci sarà la presentazione del libro Le signore non parlano di soldi (Fabbri Editore\, 2023). Protagonista della giornata sarà Azzurra Rinaldi\, docente di Economia Politica presso l’Università La Sapienza di Roma\, dove è anche Direttrice della School of Gender Economics\, autrice del libro e consulente della Commissione parlamentare di inchiesta sul femminicidio\, nonché su ogni forma di violenza di genere. \nIl programma della giornata e le informazioni\nOre 18:00\, laboratorio gratuito a numero chiuso: massimo 25 persone. \nLocalità: MMAB Montelupo Museo Archivio Biblioteca \nPrenotazione obbligatoria su Eventbrite\, raggiungibile cliccando QUI. \n\nOre 21:00: Presentazione del libro Le signore non parlano di soldi (Fabbri Editori\, 2023)\nUn dialogo con Azzurra Rinaldi\, che racconterà il suo libro e risponderà alle domande del pubblico. \nLocalità: MMAB Montelupo Museo Archivio Biblioteca
URL:https://www.comune.montelupo-fiorentino.fi.it/evento/facciamo-quadrare-i-conti-laboratorio-di-educazione-finanziaria-con-azzurra-rinaldi/
LOCATION:Mmab
CATEGORIES:In Evidenza
ATTACH;FMTTYPE=image/jpeg:https://www.comune.montelupo-fiorentino.fi.it/wp-content/uploads/2025/04/WhatsApp-Image-2025-04-18-at-12.13.40.jpeg
END:VEVENT
END:VCALENDAR