BEGIN:VCALENDAR
VERSION:2.0
PRODID:-//Comune di Montelupo Fiorentino - ECPv6.6.4.2//NONSGML v1.0//EN
CALSCALE:GREGORIAN
METHOD:PUBLISH
X-WR-CALNAME:Comune di Montelupo Fiorentino
X-ORIGINAL-URL:https://www.comune.montelupo-fiorentino.fi.it
X-WR-CALDESC:Eventi per Comune di Montelupo Fiorentino
REFRESH-INTERVAL;VALUE=DURATION:PT1H
X-Robots-Tag:noindex
X-PUBLISHED-TTL:PT1H
BEGIN:VTIMEZONE
TZID:Europe/Rome
BEGIN:DAYLIGHT
TZOFFSETFROM:+0100
TZOFFSETTO:+0200
TZNAME:CEST
DTSTART:20250330T010000
END:DAYLIGHT
BEGIN:STANDARD
TZOFFSETFROM:+0200
TZOFFSETTO:+0100
TZNAME:CET
DTSTART:20251026T010000
END:STANDARD
END:VTIMEZONE
BEGIN:VEVENT
DTSTART;VALUE=DATE:20250414
DTEND;VALUE=DATE:20250420
DTSTAMP:20260422T052846
CREATED:20250415T100124Z
LAST-MODIFIED:20250415T105147Z
UID:16147-1744668000-1745186399@www.comune.montelupo-fiorentino.fi.it
SUMMARY:Dalla Francia a Montelupo\, arriva “Incanto Vocale”: canto lirico con concerto finale
DESCRIPTION:Il Comune di Montelupo Fiorentino è lieto di ospitare l’associazione “Incanto Vocale”\, composta da un gruppo di cantanti lirici con sede nel Comune francese di Surzur. \nDal 14 al 19 aprile si terrà una masterclass aperta al pubblico\, dedicata al repertorio che va dal Rinascimento al Novecento\, che culminerà con il concerto finale di Pasqua\, in programma per domenica 20 aprile alle ore 19:00\, presso la Chiesa dei santi Quirico e Lucia all’Ambrogiana. Sarà possibile inoltre assistere alle prove pubbliche che si terranno\, così come la masterclass\, in via Santa Lucia 33. \nSarà possibile assistere alle prove nei seguenti giorni:\n• Martedì 15 aprile e giovedì 17 aprile alle ore 17:00\n• Mercoledì 16 aprile e venerdì 18 aprile alle ore 17:50 \nUn’iniziativa culturale che nasce dalla collaborazione tra realtà italiane e francesi e che vedrà tra i protagonisti la cantante Laura Agnoloni\, mezzosoprano che ha vissuto a Montelupo Fiorentino fino all’età di 34 anni e che ha cantato per 25 anni nel coro dell’Opéra National de Paris\, affiancando all’attività artistica anche l’insegnamento del canto lirico. \nInsieme a lei si esibiranno:\n• Hyekyung Chung\, pianista\n• Catherine Fournereau\, soprano\n• Anne Durand\, soprano\n• Florence David-Raimondeau\, soprano\n• Marie-Odile Ribrag-Barth\, soprano\n• Isabelle Salmon\, soprano\n• Isabelle Rivaille\, soprano\n• Jocelyne Lebastard\, soprano\n• Christian Fournereau\, baritono\n• Dominique Guitton\, basso \nL’associazione Incanto Vocale promuove la pratica del canto lirico\, sia a livello amatoriale che professionale\, attraverso corsi\, masterclass e l’organizzazione di eventi musicali in tutta Europa.
URL:https://www.comune.montelupo-fiorentino.fi.it/evento/dalla-francia-a-montelupo-arriva-incanto-vocale-canto-lirico-con-concerto-finale/
CATEGORIES:In Evidenza
ATTACH;FMTTYPE=image/png:https://www.comune.montelupo-fiorentino.fi.it/wp-content/uploads/2025/04/incanto-vocale.png
END:VEVENT
END:VCALENDAR