BEGIN:VCALENDAR
VERSION:2.0
PRODID:-//Comune di Montelupo Fiorentino - ECPv6.6.4.2//NONSGML v1.0//EN
CALSCALE:GREGORIAN
METHOD:PUBLISH
X-WR-CALNAME:Comune di Montelupo Fiorentino
X-ORIGINAL-URL:https://www.comune.montelupo-fiorentino.fi.it
X-WR-CALDESC:Eventi per Comune di Montelupo Fiorentino
REFRESH-INTERVAL;VALUE=DURATION:PT1H
X-Robots-Tag:noindex
X-PUBLISHED-TTL:PT1H
BEGIN:VTIMEZONE
TZID:Europe/Rome
BEGIN:DAYLIGHT
TZOFFSETFROM:+0100
TZOFFSETTO:+0200
TZNAME:CEST
DTSTART:20250330T010000
END:DAYLIGHT
BEGIN:STANDARD
TZOFFSETFROM:+0200
TZOFFSETTO:+0100
TZNAME:CET
DTSTART:20251026T010000
END:STANDARD
END:VTIMEZONE
BEGIN:VEVENT
DTSTART;TZID=Europe/Rome:20250329T180000
DTEND;TZID=Europe/Rome:20250329T220000
DTSTAMP:20260422T025541
CREATED:20250306T122930Z
LAST-MODIFIED:20250422T080602Z
UID:15690-1743271200-1743285600@www.comune.montelupo-fiorentino.fi.it
SUMMARY:CIBO\, VINO E CHIACCHIERE | Cena più monologo teatrale “Cristo si è fermato a Empoli”
DESCRIPTION:CIBO\, VINO E CHIACCHIERE\nCena più monologo teatrale “Cristo si è fermato a Empoli”\ncon Gaia Del Vecchio – regia di Francesco Burroni \nPer maggiori informazioni:\ncell. 334 251 2189 \nPresso\nMMAB- Montelupo Museo Archivio Biblioteca\npiazza Vittorio Veneto 11\,\nMontelupo Fiorentino (FI)
URL:https://www.comune.montelupo-fiorentino.fi.it/evento/cibo-vino-e-chiacchiere-cena-piu-monologo-teatrale-cristo-si-e-fermato-a-empoli/
LOCATION:Mmab
CATEGORIES:In Evidenza
ATTACH;FMTTYPE=image/jpeg:https://www.comune.montelupo-fiorentino.fi.it/wp-content/uploads/2025/03/465110450_8730561747001664_2865232185272062838_n.jpg
END:VEVENT
END:VCALENDAR