BEGIN:VCALENDAR
VERSION:2.0
PRODID:-//Comune di Montelupo Fiorentino - ECPv6.6.4.2//NONSGML v1.0//EN
CALSCALE:GREGORIAN
METHOD:PUBLISH
X-ORIGINAL-URL:https://www.comune.montelupo-fiorentino.fi.it
X-WR-CALDESC:Eventi per Comune di Montelupo Fiorentino
REFRESH-INTERVAL;VALUE=DURATION:PT1H
X-Robots-Tag:noindex
X-PUBLISHED-TTL:PT1H
BEGIN:VTIMEZONE
TZID:Europe/Rome
BEGIN:DAYLIGHT
TZOFFSETFROM:+0100
TZOFFSETTO:+0200
TZNAME:CEST
DTSTART:20250330T010000
END:DAYLIGHT
BEGIN:STANDARD
TZOFFSETFROM:+0200
TZOFFSETTO:+0100
TZNAME:CET
DTSTART:20251026T010000
END:STANDARD
END:VTIMEZONE
BEGIN:VEVENT
DTSTART;TZID=Europe/Rome:20250326T150000
DTEND;TZID=Europe/Rome:20250326T170000
DTSTAMP:20260421T225214
CREATED:20250306T122645Z
LAST-MODIFIED:20250306T122645Z
UID:15686-1743001200-1743008400@www.comune.montelupo-fiorentino.fi.it
SUMMARY:I MERCOLEDÌ DEL MMAB | Incontri culturali a cura dell’associazione Auser
DESCRIPTION:I MERCOLEDÌ DEL MMAB \nIncontri culturali a cura dell’associazione Auser Montelupo \nPresso\nMMAB- Montelupo Museo Archivio Biblioteca\nPiazza Vittorio Veneto 11\,\nMontelupo Fiorentino (FI)
URL:https://www.comune.montelupo-fiorentino.fi.it/evento/i-mercoledi-del-mmab-incontri-culturali-a-cura-dellassociazione-auser-3/
LOCATION:Mmab
CATEGORIES:In Evidenza
ATTACH;FMTTYPE=image/png:https://www.comune.montelupo-fiorentino.fi.it/wp-content/uploads/2025/03/309576769_485466580293064_6139676909018709097_n.png
END:VEVENT
END:VCALENDAR