BEGIN:VCALENDAR
VERSION:2.0
PRODID:-//Comune di Montelupo Fiorentino - ECPv6.6.4.2//NONSGML v1.0//EN
CALSCALE:GREGORIAN
METHOD:PUBLISH
X-WR-CALNAME:Comune di Montelupo Fiorentino
X-ORIGINAL-URL:https://www.comune.montelupo-fiorentino.fi.it
X-WR-CALDESC:Eventi per Comune di Montelupo Fiorentino
REFRESH-INTERVAL;VALUE=DURATION:PT1H
X-Robots-Tag:noindex
X-PUBLISHED-TTL:PT1H
BEGIN:VTIMEZONE
TZID:Europe/Rome
BEGIN:DAYLIGHT
TZOFFSETFROM:+0100
TZOFFSETTO:+0200
TZNAME:CEST
DTSTART:20250330T010000
END:DAYLIGHT
BEGIN:STANDARD
TZOFFSETFROM:+0200
TZOFFSETTO:+0100
TZNAME:CET
DTSTART:20251026T010000
END:STANDARD
END:VTIMEZONE
BEGIN:VEVENT
DTSTART;TZID=Europe/Rome:20250320T163000
DTEND;TZID=Europe/Rome:20250320T173000
DTSTAMP:20260421T185408
CREATED:20250306T122250Z
LAST-MODIFIED:20250306T122250Z
UID:15680-1742488200-1742491800@www.comune.montelupo-fiorentino.fi.it
SUMMARY:PRESENTAZIONE LIBRO | Per caso… un osservatorio\, il Beppe Forti di Maura Tombelli
DESCRIPTION:Presentazione del libro PER CASO … UN OSSERVATORIO\, IL BEPPE FORTI di Maura Tombelli \nIntervengono\nMaura Tombelli\, autrice del libro\nAglaia Viviani\, assessora alla cultura del Comune di Montelupo Fiorentino \nPresso\nMMAB- Montelupo Museo Archivio Biblioteca\npiazza Vittorio Veneto 11\,\nMontelupo Fiorentino (FI)
URL:https://www.comune.montelupo-fiorentino.fi.it/evento/presentazione-libro-per-caso-un-osservatorio-il-beppe-forti-di-maura-tombelli/
LOCATION:Mmab
CATEGORIES:In Evidenza
ATTACH;FMTTYPE=image/jpeg:https://www.comune.montelupo-fiorentino.fi.it/wp-content/uploads/2025/03/20-marzo.jpeg
END:VEVENT
BEGIN:VEVENT
DTSTART;TZID=Europe/Rome:20250320T190000
DTEND;TZID=Europe/Rome:20250320T200000
DTSTAMP:20260421T185408
CREATED:20250306T122401Z
LAST-MODIFIED:20250306T122402Z
UID:15682-1742497200-1742500800@www.comune.montelupo-fiorentino.fi.it
SUMMARY:Serata sul vino e le farine biologiche
DESCRIPTION:Serata sul vino e le farine biologiche \nCena degustazione e approfodnimenti.\nCon Marco Verdiani e Pavlina Miocevic (sommelier) \nPresso\nCircolo la Torre\nVia della Chiesa 27\,\nMontelupo Fiorentino (FI)
URL:https://www.comune.montelupo-fiorentino.fi.it/evento/serata-sul-vino-e-le-farine-biologiche/
LOCATION:Circolo la Torre\, Via della Chiesa\, 27\, Montelupo Fiorentino\, 50056\, Italy
CATEGORIES:In Evidenza
ATTACH;FMTTYPE=image/jpeg:https://www.comune.montelupo-fiorentino.fi.it/wp-content/uploads/2025/03/353437329_105302535931928_4426712686387202500_n.jpg
END:VEVENT
END:VCALENDAR