BEGIN:VCALENDAR
VERSION:2.0
PRODID:-//Comune di Montelupo Fiorentino - ECPv6.6.4.2//NONSGML v1.0//EN
CALSCALE:GREGORIAN
METHOD:PUBLISH
X-WR-CALNAME:Comune di Montelupo Fiorentino
X-ORIGINAL-URL:https://www.comune.montelupo-fiorentino.fi.it
X-WR-CALDESC:Eventi per Comune di Montelupo Fiorentino
REFRESH-INTERVAL;VALUE=DURATION:PT1H
X-Robots-Tag:noindex
X-PUBLISHED-TTL:PT1H
BEGIN:VTIMEZONE
TZID:Europe/Rome
BEGIN:DAYLIGHT
TZOFFSETFROM:+0100
TZOFFSETTO:+0200
TZNAME:CEST
DTSTART:20250330T010000
END:DAYLIGHT
BEGIN:STANDARD
TZOFFSETFROM:+0200
TZOFFSETTO:+0100
TZNAME:CET
DTSTART:20251026T010000
END:STANDARD
END:VTIMEZONE
BEGIN:VEVENT
DTSTART;TZID=Europe/Rome:20250313T163000
DTEND;TZID=Europe/Rome:20250313T173000
DTSTAMP:20260421T134615
CREATED:20250306T120427Z
LAST-MODIFIED:20250306T120427Z
UID:15664-1741883400-1741887000@www.comune.montelupo-fiorentino.fi.it
SUMMARY:DARWIN DAY: 8\,5 milioni di anni fa in Toscana. Sandrone\, il primate fossile più importante d’Italia
DESCRIPTION:In occasione del Darwin Day\,\n8\,5 MILIONI DI ANNI FA IN TOSCANA. Sandrone\, il primate fossile più importante d’Italia\nSi parlerà di Oreopithecus bambolii\, un primate del Miocene i cui resti più importanti vengono da Massa Marittima e Baccinello\, entrambi in provincia di Grosseto. \nIntervengono:\n– Alessandro Riga\, Dipartimento di Biologia\, Università di Firenze\n– Antonio Profico\, Dipartimento di Biologia\, Università di Pisa\n– Carlotta Zeppilli\, Dipartimento di Biologia\, Università di Pisa \nPresso\nMMAB- Montelupo Museo Archivio Biblioteca\,\npiazza Vittorio Veneto 11\,\nMontelupo Fiorentino (FI)
URL:https://www.comune.montelupo-fiorentino.fi.it/evento/darwin-day-85-milioni-di-anni-fa-in-toscana-sandrone-il-primate-fossile-piu-importante-ditalia/
LOCATION:Mmab
CATEGORIES:In Evidenza
ATTACH;FMTTYPE=image/png:https://www.comune.montelupo-fiorentino.fi.it/wp-content/uploads/2025/03/13-marzo-1.png
END:VEVENT
BEGIN:VEVENT
DTSTART;TZID=Europe/Rome:20250313T183000
DTEND;TZID=Europe/Rome:20250313T193000
DTSTAMP:20260421T134615
CREATED:20250306T121035Z
LAST-MODIFIED:20250306T121035Z
UID:15669-1741890600-1741894200@www.comune.montelupo-fiorentino.fi.it
SUMMARY:Proiezione film | EX MACHINA di Alex Garland
DESCRIPTION:Proiezione del film EX MACHINA DI Alex Garland\ne dibattito sull’intelligenza artificiale con il prof. Roberto di Quirico \nPresso\nCircolo la Torre\nVia della Chiesa 27\,\nMontelupo Fiorentino (FI)
URL:https://www.comune.montelupo-fiorentino.fi.it/evento/proiezione-film-ex-machina-di-alex-garland/
LOCATION:Circolo la Torre\, Via della Chiesa\, 27\, Montelupo Fiorentino\, 50056\, Italy
CATEGORIES:In Evidenza
ATTACH;FMTTYPE=image/jpeg:https://www.comune.montelupo-fiorentino.fi.it/wp-content/uploads/2025/03/353437329_105302535931928_4426712686387202500_n.jpg
END:VEVENT
END:VCALENDAR